Workbook
Name _1T: #REF!

Sheet Sumário
D3: Suporte a Modelagem | Modelling Support
C7: 1. Demonstrações Financeiras
D8: 1.1. Balanço Patrimonial | Balance Sheet
D9: 1.2. Demonstração de Resultados (Resumida) | Income Statement (Summary)
D10: 1.3. Demonstração de Resultados (Detalhada) | Income Statement (Detailed)
D11: 1.4. Fluxo de Caixa | Cash Flow
D12: 1.5. Capex | Ativo Imobilizado e Intangível
C14: 2. Outras referência financeiras
D15: 2.1 Preço de Realização | Realization Price
D16: 2.2. Custo Operacional | Lifting Cost
D17: 2.3. Referências de Preço de Petróleo | Oil Price Reference
D18: 2.4. Impostos e Benefícios | Taxes & Benefits
D19: 2.5. Contratos Firmes Gás Seco | Dry Gas Firm Contracts
D20: 2.6. Tabela de Conversão | Conversion Table
D21: 2.7. Histórico de Hedge | Hedge History
C23: 3. Produção
D24: 3.1. Produção de Titularidade da Companhia | Working Interest Production
C26: 4. Certificação de Reservas | Reserve Certification (NSAI data base 31/12/2024)
D27: 4.1. Reservas de Participação Bruta | Gross Working Interest Reserves
D28: 4.2. Receita Bruta e Líquida por Produto | Gross and Net Revenue by Product
D29: 4.3. Deduções e Despesas Líquidas | Deductions and Net Expenses
D30: 4.4. Capex por Ativo | Capex by Asset

Sheet Balanço Patrimonial
D2: Balanço Patrimonial Consolidado | Consolidated Balance Sheet
H3: 2020 | I3: 1T21 | J3: 2T21 | K3: 3T21 | L3: 2021 | M3: 1T22 | N3: 2T22 | O3: 3T22 | P3: 2022 | Q3: 1T23 | R3: 2T23 | S3: 3T23 | T3: 2023 | U3: 1T24 | V3: 2T24 | W3: 3T24 | X3: 2024 | Y3: 1T25 | Z3: 2T25 | AA3: 3T25
B4: Em milhares de reais | D4: In thousands of reais | F4: 2018 | G4: 2019 | H4: 2020 | I4: 1T21 / 1Q21 | J4: 2T21 / 2Q21 | K4: 3T21/3Q21 | L4: 2021 | M4: 1T22 / 1Q22 | N4: 2T22 / 2Q22 | O4: 3T22 / 3Q22 | P4: 2022 | Q4: 1T23 / 1Q23 | R4: 2T23 / 2Q23 | S4: 3T23 / 3Q23 | T4: 2023 | U4: 1T24 / 1Q24 | V4: ='DRE (detalhada)'!AE4 -> 2T24 / 2Q24 | W4: ='DRE (detalhada)'!AG4 -> 3T24 / 3Q24 | X4: ='DRE (detalhada)'!AJ4 -> 2024 | Y4: 1T25 | Z4: 2T25 | AA4: 3T25 | AB4: 2025 | AC4: 1T26 | AD4: 2T26
B6: Ativo | D6: Assets
B8: Circulante | D8: Current Assets
B9: Caixa e equivalentes de caixa | D9: Cash and cash equivalents | F9: 20027 | G9: 56265 | H9: 30861 | I9: 44045 | J9: 268955 | K9: 392406 | L9: 217159 | M9: 156467 | N9: 244999 | O9: 504667 | P9: 361028 | Q9: 205972 | R9: 89760 | S9: 78480 | T9: 197184 | U9: 302149 | V9: 411015 | W9: 420687 | X9: 295548 | Y9: 315621 | Z9: 222608 | AA9: 277772 | AB9: 229508 | AC9: 272554 | AD9: 320992
B10: Aplicações financeiras acp | D10: Short-therm investments | F10: 0 | G10: 45 | H10: 66414 | I10: 58537 | J10: 941890 | K10: 764069 | L10: 585655 | M10: 514353 | N10: 1399969 | O10: 1388589 | P10: 1250163 | Q10: 721065 | R10: 695724 | S10: 642415 | T10: 310172 | U10: 384688 | V10: 1215647 | W10: 1079673 | X10: 761939 | Y10: 702215 | Z10: 428940 | AA10: 655943 | AB10: 1395510 | AC10: 1384761 | AD10: 1299125
B11: Contas a receber de clientes | D11: Trade receivables | F11: 38259 | G11: 78610 | H11: 108733 | I11: 145122 | J11: 133067 | K11: 165001 | L11: 169847 | M11: 452538 | N11: 442584 | O11: 397043 | P11: 384180 | Q11: 364778 | R11: 300529 | S11: 348729 | T11: 360611 | U11: 349761 | V11: 377218 | W11: 362540 | X11: 361095 | Y11: 355003 | Z11: 329825 | AA11: 303528 | AB11: 253967 | AC11: 315232 | AD11: 327052
B12: Estoques | D12: Inventories | F12: 100 | G12: 480 | H12: 1211 | I12: 1261 | J12: 869 | K12: 1011 | L12: 6552 | M12: 8992 | N12: 8125 | O12: 6840 | P12: 11451 | Q12: 4857 | R12: 7376 | S12: 24717 | T12: 7358 | U12: 9436 | V12: 7793 | W12: 8293 | X12: 9766 | Y12: 19734 | Z12: 14824 | AA12: 9504 | AB12: 6139 | AC12: 8899 | AD12: 5651
B13: Tributos a recuperar | D13: Recoverable taxes | F13: 20033 | G13: 14775 | H13: 22433 | I13: 27587 | J13: 25707 | K13: 46645 | L13: 41825 | M13: 34823 | N13: 55957 | O13: 70151 | P13: 99243 | Q13: 128600 | R13: 129294 | S13: 166507 | T13: 233927 | U13: 144792 | V13: 79445 | W13: 83339 | X13: 96616 | Y13: 100087 | Z13: 89363 | AA13: 96572 | AB13: 146817 | AC13: 105884 | AD13: 81785
B14: Almoxarifado para inversões fixas | D14: Inventory for capital expenditures | AC14: 51264 | AD14: 56296
B15: Instrumentos financeiros derivativos pcp | D15: Derivative financial instruments | F15: 0 | G15: 693 | H15: 80506 | I15: 2173 | J15: 0 | K15: 0 | L15: 0 | M15: 0 | N15: 0 | O15: 0 | P15: 0 | Q15: 0 | R15: 0 | S15: 0 | T15: 0 | U15: 0 | V15: 0 | W15: 6507 | X15: 575 | Y15: 2786 | Z15: 5209 | AA15: 0 | AB15: 33771 | AC15: 47735 | AD15: 38847
B16: Outros ativos | D16: Other assets | F16: 465 | G16: 1467 | H16: 12826 | I16: 14418 | J16: 6331 | K16: 7132 | L16: 11769 | M16: 14597 | N16: 23657 | O16: 55970 | P16: 26539 | Q16: 43743 | R16: 32091 | S16: 35505 | T16: 38179 | U16: 18727 | V16: 28825 | W16: 40093 | X16: 43886 | Y16: 78331 | Z16: 44513 | AA16: 45075 | AB16: 92524 | AC16: 60603 | AD16: 49301
B18: Total dos Ativos Circulantes | D18: Total Current Assets | F18: 78884 | G18: 152335 | H18: 322984 | I18: 293143 | J18: 1376819 | K18: 1376264 | L18: 1032807 | M18: 1181770 | N18: =SUM(N9:N16) -> 2175291 | O18: =SUM(O9:O16) -> 2423260 | P18: =SUM(P9:P16) -> 2132604 | Q18: =SUM(Q9:Q16) -> 1469015 | R18: =SUM(R9:R16) -> 1254774 | S18: =SUM(S9:S16) -> 1296353 | T18: =SUM(T9:T16) -> 1147431 | U18: =SUM(U9:U16) -> 1209553 | ... AB18: =SUM(AB9:AB16) -> 2158236 | AC18: 2246932 | AD18: =SUM(AD9:AD16) -> 2179049
B20: Não Circulante | D20: Non-Current Assets
B21: Aplicações financeiras alp | D21: Short-term investments | F21: 3277 | G21: 10137 | H21: 68597 | I21: 74249 | J21: 63669 | K21: 68622 | L21: 69989 | M21: 74829 | N21: 81912 | O21: 0 | P21: 0 | Q21: 0 | R21: 0 | S21: 0 | T21: 0 | U21: 0 | V21: 0 | W21: 0 | X21: 15964 | Y21: 16439 | Z21: 16985 | AA21: 4848 | AB21: 5022 | AC21: 5193 | AD21: 5366
B22: Contas a receber de clientes LP | D22: Trade receivables | F22: 0 | G22: 0 | H22: 0 | I22: 0 | J22: 0 | K22: 0 | L22: 0 | M22: 0 | N22: 0 | O22: 27306 | P22: 55917 | Q22: 55917 | R22: 55917 | S22: 55917 | T22: 55917 | U22: 55917 | V22: 55917 | W22: 55917 | X22: 58145 | Y22: 58475 | Z22: 58475 | AA22: 65231 | AB22: 65231 | AC22: 65231 | AD22: 65231
B23: Tributos a Recuperar alp | D23: Recoverable taxes | F23: 3096 | G23: 422 | H23: 562 | I23: 1064 | J23: 7686 | K23: 8895 | L23: 13374 | M23: 13374 | N23: 15202 | O23: 15202 | P23: 68094 | Q23: 75764 | R23: 85034 | S23: 97582 | T23: 78049 | U23: 77814 | V23: 66350 | W23: 63086 | X23: 66820 | Y23: 67214 | Z23: 69421 | AA23: 73304 | AB23: 69109 | AC23: 66131 | AD23: 66400
B24: Instrumentos financeiros derivativos alp | D24: Derivative financial instruments | F24: 0 | G24: 1288 | H24: 56576 | L24: 0 | P24: 0 | T24: 0 | U24: 0 | V24: 0 | W24: 0 | X24: 0 | Y24: 0 | Z24: 0 | AA24: 0 | AB24: 0 | AC24: 206828 | AD24: 266605
B25: Depósitos judiciais | D25: Judicial deposits | F25: 2062 | G25: 2126 | H25: 2311 | I25: 2298 | J25: 2588 | K25: 2588 | L25: 2445 | M25: 2839 | N25: 2475 | O25: 2678 | P25: 2608 | Q25: 0 | R25: 0 | S25: 0 | T25: 0 | U25: 0 | V25: 0 | W25: 0 | X25: 0 | Y25: 0 | Z25: 0 | AA25: 0 | AB25: 0 | AC25: 0 | AD25: 0
B26: Outros ativos LP | D26: Other assets | F26: 404 | G26: 383 | H26: 475 | I26: 468 | J26: 240 | K26: 274 | L26: 483 | M26: 5848 | N26: 2011 | O26: 1442 | P26: 836 | Q26: 5101 | R26: 5214 | S26: 5266 | T26: 5816 | U26: 5388 | V26: 7300 | W26: 47342 | X26: 46540 | Y26: 51262 | Z26: 53815 | AA26: 54048 | AB26: 81912 | AC26: 74515 | AD26: 76131
B27: Tributos diferidos | D27: Deferred taxes | F27: 0 | G27: 0 | H27: 3070 | I27: 98664 | J27: 187162 | K27: 222009 | L27: 222941 | M27: 290662 | N27: 285326 | O27: 166836 | P27: 167840 | Q27: 142088 | R27: 61968 | S27: 55524 | T27: 46370 | U27: 36160 | V27: 96614 | W27: 49711 | X27: 97025 | Y27: 22572 | Z27: 11838 | AA27: 11531 | AB27: 8113 | AC27: 58615 | AD27: 4037
B28: Imobilizado e Intangível | D28: PP&E and Intangible assets | F28: 418180 | G28: 1669633 | H28: 1604918 | I28: 1641888 | J28: 1615361 | K28: 1620045 | L28: 3360865 | M28: 3464455 | N28: 3671762 | O28: 3880955 | P28: 4129365 | Q28: 5101969 | R28: 5260304 | S28: 5351189 | T28: 5455889 | U28: 5469739 | V28: 5466627 | W28: 5461135 | X28: 5561314 | Y28: 5649399 | Z28: 5833421 | AA28: 6269821 | AB28: 6254225 | AC28: 6300056 | AD28: 6330865
B29: Direito de uso em arrendamento | D29: Lease right-of- use assets | F29: 0 | G29: 27596 | H29: 20680 | I29: 18961 | J29: 18743 | K29: 13865 | L29: 12489 | M29: 14031 | N29: 16971 | O29: 14372 | P29: 27830 | Q29: 52311 | R29: 44372 | S29: 50822 | T29: 39712 | U29: 30553 | V29: 19037 | W29: 30668 | X29: 22338 | Y29: 15792 | Z29: 22608 | AA29: 30665 | AB29: 24883 | AC29: 44617 | AD29: 38131
B30: Investimentos | D30: Investments
B31: Total dos Ativos Não Circulantes | D31: Total Non-Current Assets | F31: 427019 | G31: 1711585 | H31: 1757189 | I31: 1840064 | J31: 1895449 | K31: 1936298 | L31: 3682586 | M31: 3866038 | N31: =SUM(N21:N29) -> 4075659 | O31: =SUM(O21:O29) -> 4108791 | P31: =SUM(P21:P29) -> 4452490 | Q31: =SUM(Q21:Q29) -> 5433150 | R31: =SUM(R21:R29) -> 5512809 | S31: =SUM(S21:S29) -> 5616300 | T31: =SUM(T21:T29) -> 5681753 | U31: =SUM(U21:U29) -> 5675571 | ... AB31: =SUM(AB21:AB29) -> 6508495 | AC31: 6821186 | AD31: =SUM(AD21:AD29) -> 6852766
B33: Total do Ativo | D33: Total Assets | F33: 505903 | G33: 1863920 | H33: 2080173 | I33: 2133207 | J33: 3272268 | K33: 3312562 | L33: 4715393 | M33: 5047808 | N33: =N18+N31 -> 6250950 | O33: =O18+O31 -> 6532051 | P33: =P18+P31 -> 6585094 | Q33: =Q18+Q31 -> 6902165 | R33: =R18+R31 -> 6767583 | S33: =S18+S31 -> 6912653 | T33: =T18+T31 -> 6829184 | U33: =U18+U31 -> 6885124 | ... AB33: =AB18+AB31 -> 8666731 | AC33: 9068118 | AD33: =AD18+AD31 -> 9031815
B35: Passivo | D35: Liabilities
B37: Circulante | D37: Current Liabilities
B38: Fornecedores | D38: Suppliers | F38: 32540 | G38: 42515 | H38: 80089 | I38: 85397 | J38: 81808 | K38: 65658 | L38: 98708 | M38: 153583 | N38: 190036 | O38: 273068 | P38: 352152 | Q38: 417994 | R38: 374827 | S38: 370092 | T38: 254010 | U38: 215748 | V38: 233373 | W38: 259128 | X38: 299110 | Y38: 367947 | Z38: 328410 | AA38: 308179 | AB38: 265879 | AC38: 230608 | AD38: 271366
B39: Salários e encargos sociais | D39: Payroll and related charges | F39: 11142 | G39: 13839 | H39: 16065 | I39: 19765 | J39: 23028 | K39: 28402 | L39: 30563 | M39: 41875 | N39: 38412 | O39: 51180 | P39: 60848 | Q39: 72458 | R39: 63289 | S39: 80290 | T39: 86647 | U39: 79495 | V39: 74351 | W39: 91659 | X39: 93929 | Y39: 106314 | Z39: 86559 | AA39: 108506 | AB39: 88753 | AC39: 102904 | AD39: 83342
B40: Tributos a recolher | D40: Recoverable taxes | F40: 6830 | G40: 16641 | H40: 22762 | I40: 34835 | J40: 54253 | K40: 51170 | L40: 66995 | M40: 124939 | N40: 123668 | O40: 146004 | P40: 124275 | Q40: 119903 | R40: 86136 | S40: 64924 | T40: 49537 | U40: 59146 | V40: 41050 | W40: 63691 | X40: 74193 | Y40: 61155 | Z40: 48786 | AA40: 39730 | AB40: 50549 | AC40: 54556 | AD40: 27390
B41: Empréstimos e financiamentos | D41: Loans and financing | F41: 1183 | G41: 35320 | H41: 212931 | I41: 294175 | J41: 261795 | K41: 268087 | L41: 281762 | M41: 251762 | N41: 282996 | O41: 2205 | P41: 14011 | Q41: 49352 | R41: 59608 | S41: 115535 | T41: 142772 | U41: 149689 | V41: 201755 | W41: 96683 | X41: 0 | Y41: 0 | Z41: 0 | AA41: 0 | AB41: 0 | AC41: 0 | AD41: 0
B42: Debêntures cp | D42: Debentures | E42: 0 | F42: 0 | G42: 0 | H42: 0 | I42: 0 | J42: 0 | K42: 0 | L42: 0 | M42: 0 | N42: 0 | O42: 0 | P42: 0 | Q42: 0 | R42: 0 | S42: 0 | T42: 0 | U42: 0 | V42: 2417 | W42: 28316 | X42: 20907 | Y42: 67824 | Z42: 26513 | AA42: 99163 | AB42: 64914 | AC42: 107719 | AD42: 63733
B43: Valores a pagar de arrendamentos | D43: Lease amounts payable | F43: 509 | G43: 15060.975 | H43: 15241 | I43: 15269 | J43: 17098 | K43: 11782 | L43: 10486 | M43: 11364 | N43: 11945 | O43: 10740 | P43: 20382 | Q43: 29595 | R43: 25608 | S43: 40798 | T43: 32887 | U43: 20440 | V43: 11225 | W43: 24834 | X43: 17138 | Y43: 11823 | Z43: 13202 | AA43: 22169 | AB43: 19173 | AC43: 22137 | AD43: 17250
B44: Instrumentos financeiros derivativos pcp | D44: Derivative financial instruments | F44: 0 | G44: 1042 | H44: 0 | I44: 37137 | J44: 151685 | K44: 211860 | L44: 231125 | M44: 405828 | N44: 461229 | O44: 277828 | P44: 285183 | Q44: 218798 | R44: 142384 | S44: 205405 | T44: 99478 | U44: 81575 | V44: 54227 | W44: 5233 | X44: 1003 | Y44: 1371 | Z44: 327 | AA44: 745 | AB44: 0 | AC44: 328920 | AD44: 128203
B45: Dividendos e juros sobre capital próprio a pagar | D45: Dividends payable | F45: 2 | G45: 12896 | H45: 2 | I45: 2 | J45: 2 | K45: 2 | L45: 40566 | M45: 40566 | N45: 880 | O45: 8 | P45: 106416 | Q45: 106416 | R45: 0 | S45: 0 | T45: 17359 | U45: 17359 | V45: 2 | W45: 0 | X45: 0 | Y45: 0 | Z45: 0 | AA45: 0 | AB45: 0 | AC45: 0 | AD45: 0
B46: Valores a pagar de aquisições | D46: Amounts payable for acquisitions | F46: 0 | G46: 0 | H46: 0 | I46: 0 | J46: 0 | K46: 0 | L46: 453318 | M46: 389697 | N46: 539173 | O46: 502377 | P46: 405886 | Q46: 650086 | R46: 616305 | S46: 247866 | T46: 340256 | U46: 516488 | V46: 422647 | W46: 415068 | X46: 213077 | Y46: 0 | Z46: 0 | AA46: 52928 | AB46: 18515 | AC46: 17802 | AD46: 17895
B47: Provisão para abandono de poços | D47: Provision for well abandonment | F47: 0 | G47: 4489 | H47: 6301 | I47: 6301 | J47: 6301 | K47: 6301 | L47: 419 | M47: 419 | N47: 419 | O47: 419 | P47: 9724 | Q47: 12077 | R47: 12102 | S47: 12102 | T47: 8202 | U47: 6475 | V47: 6268 | W47: 4806 | X47: 342 | Y47: 171 | Z47: 171 | AA47: 1025 | AB47: 4728 | AC47: 4728 | AD47: 4728
B48: Dividendos a pagar | D48: Payable Dividends | AB48: 100000 | AC48: 100000 | AD48: 100000
...

Sheet DRE (resumida)
D2: Demonstração de Resultados (Resumida) | Income Statement (Summary)
B4: Em milhares de reais | D4: In thousands of reais | F4: 2018 | G4: 2019 | H4: 1T20 / 1Q20 | I4: 2T20 /2Q20 | J4: 3T20 / 3Q20 | K4: 4T20 / 4Q20 | L4: 2020 | M4: 1T21 / 1Q21 | N4: 2T21 /2Q21 | O4: 3T21 / 3Q21 | P4: 4T21 / 4Q21 | Q4: 2021 | R4: 1T22 / 1Q22 | S4: 2T22 / 2Q22 | T4: 3T22 / 3Q22 | U4: 4T22 / 4Q22 | V4: 2022 | W4: 1T23 / 1Q23 | X4: 2T23 / 2Q23 | Y4: 1S23 | Z4: 3T23 / 3Q23 | AA4: 9M23 | AB4: 4T23 / 4Q23 | AC4: 2023 | AD4: 1T24 / 1Q24 | AE4: 2T24 / 2Q24 | AF4: 1S24/1H24 | AG4: 3T24 / 3Q24 | AH4: 9M24/9M24 | AI4: 4T24 / 4Q24 | AJ4: 2024 | AK4: 1T25 | AL4: 2T25 | AM4: 1S25 | AN4: 3T25 | AO4: 9M25 | AP4: 4T25 | AQ4: 2025 | AR4: 1T26 | AS4: 2T26 | AT4: 1S26
B6: Receita Líquida | D6: Net Revenue | F6: 299668 | G6: 339923 | H6: 195548 | I6: 185488 | J6: 200177 | K6: 206628 | L6: 787841 | M6: 245788 | N6: 249110 | O6: 260344 | P6: 285362 | Q6: 1040604 | R6: 703476 | S6: 691009 | T6: 804848 | U6: 776606 | V6: 2975939 | W6: 719212 | X6: 658314 | Y6: 1377526 | Z6: 747829 | AA6: 2125355 | AB6: =AC6-AA6 -> 689006 | AC6: 2814361 | AD6: 744735 | AE6: 826254 | AF6: 1570989 | AG6: 850189 | AH6: 2421178 | AI6: 843376 | AJ6: 3264554 | AK6: 860752 | AL6: 806302 | AM6: 1667054 | AN6: 786385 | AO6: 2453439 | AP6: 704170 | AQ6: 3157609 | AR6: 684456 | AS6: 807943 | AT6: =AS6+AR6 -> 1492399
B7: Custos dos Serviços Prestados e dos Produtos Vendidos | D7: Costs of Sales and Services | F7: -187387 | G7: -253367 | H7: -128605 | I7: -111882 | J7: -118385 | K7: -151727.58 | L7: -510599.58 | M7: -153098 | N7: -166331 | O7: -179203 | P7: -169218 | Q7: -667850 | R7: -333865 | S7: -367690 | T7: -420747 | U7: -412110 | V7: -1534412 | W7: -442263 | X7: -472834 | Y7: -915097 | Z7: -499783 | AA7: -1414880 | AB7: =AC7-AA7 -> -501781 | AC7: -1916661 | AD7: -475848 | AE7: -501955 | AF7: -977803 | AG7: -564861 | AH7: -1542664 | AI7: -530141 | AJ7: -2072805 | AK7: -540866 | AL7: -553122 | AM7: -1093988 | AN7: -552209 | AO7: -1646197 | AP7: -489976 | AQ7: -2136173 | AR7: -467859 | AS7: -516223 | AT7: =AS7+AR7 -> -984082
B9: Lucro Bruto | D9: Gross Profit | F9: 112281 | G9: 86556 | H9: 66943 | I9: 73606 | J9: 81792 | K9: 54900.421 | L9: 277241.42 | M9: 92690 | N9: 82779 | O9: 81141 | P9: 116144 | Q9: 372754 | R9: 369611 | S9: 323319 | T9: =SUM(T6:T7) -> 384101 | U9: =SUM(U6:U7) -> 364496 | V9: =SUM(V6:V7) -> 1441527 | W9: =SUM(W6:W7) -> 276949 | X9: =SUM(X6:X7) -> 185480 | Y9: =SUM(Y6:Y7) -> 462429 | Z9: =SUM(Z6:Z7) -> 248046 | AA9: =SUM(AA6:AA7) -> 710475 | AB9: =AC9-AA9 -> 187225 | AC9: =SUM(AC6:AC7) -> 897700 | AD9: =SUM(AD6:AD7) -> 268887 | AE9: =SUM(AE6:AE7) -> 324299 | AF9: =SUM(AF6:AF7) -> 593186 | AG9: =SUM(AG6:AG7) -> 285328 | AH9: =SUM(AH6:AH7) -> 878514 | AI9: =SUM(AI6:AI7) -> 313235 | AJ9: =SUM(AJ6:AJ7) -> 1191749 | ... AQ9: =SUM(AQ6:AQ7) -> 1021436 | AR9: 216597 | AS9: =SUM(AS6:AS7) -> 291720 | AT9: =SUM(AT6:AT7) -> 508317
B11: Receitas (Despesas) | D11: Income (Expenses)
B12: Perdas de crédito esperadas | D12: Expected credit losses | F12: 0 | G12: 0 | H12: 0 | I12: 0 | J12: 0 | K12: 0 | L12: 0 | M12: 0 | N12: 0 | O12: 0 | P12: 0 | Q12: 0 | R12: 0 | S12: 0 | T12: -37962 | U12: -32749 | V12: -70711 | W12: 0 | X12: 0 | Y12: 0 | Z12: 0 | AA12: 0 | AB12: =AC12-AA12 -> 0 | AC12: 0 | AD12: 0 | AE12: 0 | AF12: 0 | AG12: 0 | AH12: 0 | AI12: 0 | AJ12: 0 | AK12: 0 | AL12: 0 | AM12: 0 | AN12: 0 | AO12: 0 | AP12: 0 | AQ12: 0 | AR12: 0 | AS12: 0 | AT12: =AS12+AR12 -> 0
B13: Gerais, vendas e administrativas | D13: Sales, general and administrative | F13: -24763 | G13: -31525 | H13: -14882 | I13: -8311 | J13: -12384 | K13: -11909 | L13: -47486 | M13: -11283 | N13: -18188 | O13: -11315 | P13: -22058 | Q13: -62844 | R13: -21788 | S13: -23913 | T13: -29803 | U13: -34873 | V13: -110377 | W13: -45840 | X13: -35741 | Y13: -81581 | Z13: -48862 | AA13: -130443 | AB13: =AC13-AA13 -> -83622 | AC13: -214065 | AD13: -42618 | AE13: -48331 | AF13: -90949 | AG13: -55612 | AH13: -146561 | AI13: -62154 | AJ13: -208715 | AK13: -56502 | AL13: -66443 | AM13: -122945 | AN13: -55195 | AO13: -178140 | AP13: -61856 | AQ13: -239996 | AR13: -61907 | AS13: -52951 | AT13: =AS13+AR13 -> -114858
B14: Outras Receitas (Despesas), Líquidas | D14: Other net income (expenses) | F14: 2070 | G14: 5415 | H14: -2 | I14: 565 | J14: -2354 | K14: 3855.5786 | L14: 2064.5786 | M14: -10827 | N14: -1618 | O14: -12888 | P14: 29 | Q14: -25304 | R14: -3016 | S14: -4643 | T14: -5483 | U14: 10903 | V14: -2239 | W14: -196 | X14: 24313 | Y14: 24117 | Z14: -4272 | AA14: 19845 | AB14: =AC14-AA14 -> -23663 | AC14: -3818 | AD14: -26779 | AE14: -6867 | AF14: -33646 | AG14: 6688 | AH14: -26958 | AI14: -7856 | AJ14: -34814 | AK14: -3619 | AL14: -8332 | AM14: -11951 | AN14: -21377 | AO14: -33328 | AP14: -26533 | AQ14: -59861 | AR14: -4596 | AS14: -15713 | AT14: =AS14+AR14 -> -20309
B15: Investimentos | D15: Investments
B16: Total das Despesas | D16: Total Expenses | F16: -22693 | G16: -26110 | H16: -14884 | I16: -7746 | J16: -14738 | K16: -8053.4214 | L16: -45421.421 | M16: -22110 | N16: -19806 | O16: -24203 | P16: -22029 | Q16: -88148 | R16: -24804 | S16: -28556 | T16: =SUM(T12:T14) -> -73248 | U16: =SUM(U12:U14) -> -56719 | V16: =SUM(V12:V14) -> -183327 | W16: =SUM(W12:W14) -> -46036 | X16: =SUM(X12:X14) -> -11428 | Y16: =SUM(Y12:Y14) -> -57464 | Z16: =SUM(Z12:Z14) -> -53134 | AA16: =SUM(AA12:AA14) -> -110598 | AB16: =AC16-AA16 -> -107285 | AC16: =SUM(AC12:AC14) -> -217883 | AD16: =SUM(AD12:AD14) -> -69397 | AE16: =SUM(AE12:AE14) -> -55198 | AF16: =SUM(AF12:AF14) -> -124595 | AG16: =SUM(AG12:AG14) -> -48924 | AH16: =SUM(AH12:AH14) -> -173519 | AI16: =SUM(AI12:AI14) -> -70010 | AJ16: =SUM(AJ12:AJ14) -> -243529 | ... AQ16: =SUM(AQ12:AQ14) -> -299857 | AR16: -66503 | AS16: =SUM(AS12:AS14) -> -68664 | AT16: =SUM(AT12:AT14) -> -135167
B18: Lucro Operacional | D18: Operating Income | F18: 89588 | G18: 60446 | H18: 52059 | I18: 65860 | J18: 67054 | K18: 46847 | L18: 231820 | M18: 70580 | N18: 62973 | O18: 56938 | P18: 94115 | Q18: 284606 | R18: 344807 | S18: 294763 | T18: =T16+T9 -> 310853 | U18: =U9+U16 -> 307777 | V18: =V9+V16 -> 1258200 | W18: =W9+W16 -> 230913 | X18: =X9+X16 -> 174052 | Y18: =Y9+Y16 -> 404965 | Z18: =Z9+Z16 -> 194912 | AA18: =AA9+AA16 -> 599877 | AB18: =AC18-AA18 -> 79940 | AC18: =AC9+AC16 -> 679817 | AD18: =AD9+AD16 -> 199490 | AE18: =AE9+AE16 -> 269101 | AF18: =AF9+AF16 -> 468591 | AG18: =AG9+AG16 -> 236404 | AH18: =AH9+AH16 -> 704995 | AI18: =AI9+AI16 -> 243225 | AJ18: =AJ9+AJ16 -> 948220 | ... AQ18: =AQ9+AQ16 -> 721579 | AR18: 150094 | AS18: =AS9+AS16 -> 223056 | AT18: =AT9+AT16 -> 373150
B20: Resultado Financeiro | D20: Financial Income
B21: Resultado Financeiro | D21: Financial Income | F21: -894 | G21: 11392 | H21: -256891 | I21: -85454 | J21: -53788 | K21: 46676 | L21: -349457 | M21: -94785 | N21: 63670 | O21: -21140 | P21: 1266 | Q21: -50989 | R21: 185855 | S21: -126853 | T21: -45488 | U21: 52886 | V21: 66400 | W21: 6301 | X21: 55392 | Y21: 61693 | Z21: -48395 | AA21: 13298 | AB21: 34785 | AC21: 49012 | AD21: -70978 | AE21: -216252 | AF21: -287230 | AG21: -40324 | AH21: -327554 | AI21: -257261 | AJ21: -584815 | AK21: 48997 | AL21: 75421 | AM21: 124418 | AN21: -8980 | AO21: 115438 | AP21: -60823 | AQ21: 54615 | AR21: -1042 | AS21: 10781 | AT21: =AS21+AR21 -> 9739
B23: Lucro (Prejuízo) Antes Dos Impostos | D23: Profit (Loss) Before Taxes | F23: 88694 | G23: 71838 | H23: -204832 | I23: -19594 | J23: 13266 | K23: 93523 | L23: -117637 | M23: -24205 | N23: 126643 | O23: 35798 | P23: 95381 | Q23: 233617 | R23: 530662 | S23: 167910 | T23: =T21+T18 -> 265365 | U23: =U18+U21 -> 360663 | V23: =V18+V21 -> 1324600 | W23: =W18+W21 -> 237214 | X23: =X18+X21 -> 229444 | Y23: =Y18+Y21 -> 466658 | Z23: =Z18+Z21 -> 146517 | AA23: =AA18+AA21 -> 613175 | AB23: =AC23-AA23 -> 115654 | AC23: =AC18+AC21 -> 728829 | AD23: =AD18+AD21 -> 128512 | AE23: =AE18+AE21 -> 52849 | AF23: =AF18+AF21 -> 181361 | AG23: =AG18+AG21 -> 196080 | AH23: =AH18+AH21 -> 377441 | AI23: =AI18+AI21 -> -14036 | AJ23: =AJ18+AJ21 -> 363405 | ... AQ23: =AQ18+AQ21 -> 776194 | AR23: 149052 | AS23: =AS18+AS21 -> 233837 | AT23: =AT18+AT21 -> 382889
B25: Imposto De Renda e Contribuição Social | D25: Income Tax and Social Contribution
B26: Corrente | D26: Current | F26: -17649 | G26: -14519 | H26: -7354 | I26: -5316 | J26: -2783 | K26: 172 | L26: -15281 | M26: -2163 | N26: -17986 | O26: -13669 | P26: -12835 | Q26: -46653 | R26: -51087 | S26: -44422 | T26: -81140 | U26: 47403 | V26: -329141 | W26: -45468 | X26: 6819 | Y26: -38649 | Z26: 31622 | AA26: -7027 | AB26: -25641 | AC26: -76162 | AD26: -8061 | AE26: 4621 | AF26: -3440 | AG26: -4316 | AH26: -7756 | AI26: -3432 | AJ26: -11188 | AK26: -6552 | AL26: -3713 | AM26: -10265 | AN26: -1382 | AO26: -11647 | AP26: -1989 | AQ26: -13636 | AR26: -2559 | AS26: -6368 | AT26: =AS26+AR26 -> -8927
B27: Diferido | D27: Deferred | F27: 1904 | G27: 6363 | H27: 76145 | I27: 9754 | J27: -4141 | K27: -30599 | L27: 51159 | M27: 13478 | N27: -14091 | O27: 797 | P27: -10249 | Q27: -10065 | R27: -77737 | S27: 7543 | T27: 27658 | U27: 573 | V27: -41963 | W27: 7767 | X27: -58622 | Y27: -50855 | Z27: -33042 | AA27: -83897 | AB27: 96672 | AC27: 12775 | AD27: -10418 | AE27: 78711 | AF27: 68293 | AG27: -32924 | AH27: 35369 | AI27: 49912 | AJ27: 85281 | AK27: -74681 | AL27: -11974 | AM27: -86655 | AN27: -25305 | AO27: -111960 | AP27: -12246 | AQ27: -124206 | AR27: -22696 | AS27: -24786 | AT27: =AS27+AR27 -> -47482
B29: Total Imposto De Renda e Contribuição Social | D29: Total Income Tax and Social Contribution | F29: -15745 | G29: -8156 | H29: 68791 | I29: 4438 | J29: -6924 | K29: -30427 | L29: 35878 | M29: 11315 | N29: -32077 | O29: -12872 | P29: -23084 | Q29: -56718 | R29: -128824 | S29: -36879 | T29: -53482 | U29: 47976 | V29: -371104 | W29: -37701 | X29: -51803 | Y29: -89504 | Z29: -1420 | AA29: -90924 | AB29: 27537 | AC29: -63387 | AD29: -18479 | AE29: 83332 | AF29: 64853 | AG29: -37240 | AH29: =SUM(AH26:AH27) -> 27613 | AI29: =SUM(AI26:AI27) -> 46480 | AJ29: =SUM(AJ26:AJ27) -> 74093 | AK29: =SUM(AK26:AK27) -> -81233 | AL29: =SUM(AL26:AL27) -> -15687 | AM29: =SUM(AM26:AM27) -> -96920 | AN29: =SUM(AN26:AN27) -> -26687 | AO29: =SUM(AO26:AO27) -> -123607 | ... AQ29: =SUM(AQ26:AQ27) -> -137842 | AR29: -25255 | AS29: =SUM(AS26:AS27) -> -31154 | AT29: =SUM(AT26:AT27) -> -56409
B31: Lucro (Prejuízo) Líquido Do Exercício / Período | D31: Net Income (Loss) For the Year / Period | F31: 72949 | G31: 63682 | H31: -136041 | I31: -15156 | J31: 6342 | K31: 63096 | L31: -81759 | M31: -12890 | N31: 94566 | O31: 22926 | P31: 72297 | Q31: 176899 | R31: 401838 | S31: 131031 | T31: 211883 | U31: 408639 | V31: 953496 | W31: 199513 | X31: 177641 | Y31: 377154 | Z31: 145097 | AA31: 522251 | AB31: 143191 | AC31: 665442 | AD31: 110033 | AE31: 136181 | AF31: 246214 | AG31: 158840 | AH31: =AH23+AH29 -> 405054 | AI31: =AI23+AI29 -> 32444 | AJ31: =AJ23+AJ29 -> 437498 | AK31: =AK23+AK29 -> 227529 | AL31: =AL23+AL29 -> 238139 | AM31: =AM23+AM29 -> 465668 | AN31: =AN23+AN29 -> 121937 | AO31: =AO23+AO29 -> 587605 | ... AQ31: =AQ23+AQ29 -> 638352 | AR31: 123797 | AS31: =AS23+AS29 -> 202683 | AT31: =AT23+AT29 -> 326480

Sheet DRE (detalhada)
D2: Demonstração de Resultados (Detalhada) | Income Statement (Detailed)
F3: =LEFT(F4,4) -> 2018 | G3: =LEFT(G4,4) -> 2019 | H3: =LEFT(H4,4) -> 1T20 | I3: =LEFT(I4,4) -> 2T20 | J3: =LEFT(J4,4) -> 3T20 | K3: =LEFT(K4,4) -> 4T20 | L3: 2020 | M3: 1T21 | N3: 2T21 | O3: 3T21 | P3: 4T21 | Q3: 2021 | R3: 1T22 | S3: 2T22 | T3: 3T22 | U3: 4T22 | V3: 2022 | W3: 1T23 | X3: 2T23 | Y3: 1S23 | Z3: 3T23 | AA3: 9M23 | AB3: 4T23 | AC3: 2023 | AD3: 1T24 | AE3: 2T24 | AF3: 1S24 | AG3: 3T24 | AH3: 9M24 | AI3: 4T24 | AJ3: 2024 | AK3: 1T25 | AL3: 2T25 | AM3: 1S25 | AN3: 3T25 | AO3: 9M25
B4: Em milhares de reais | D4: In thousands of reais | F4: 2018 | G4: 2019 | H4: 1T20 / 1Q20 | I4: 2T20 /2Q20 | J4: 3T20 / 3Q20 | K4: 4T20 / 4Q20 | L4: 2020 | M4: 1T21 / 1Q21 | N4: 2T21 /2Q21 | O4: 3T21 / 3Q21 | P4: 4T21 / 4Q21 | Q4: 2021 | R4: 1T22 / 1Q22 | S4: 2T22 / 2Q22 | T4: 3T22 / 3Q22 | U4: 4T22 / 4Q22 | V4: 2022 | W4: 1T23 / 1Q23 | X4: 2T23 / 2Q23 | Y4: 1S23 | Z4: 3T23 / 3Q23 | AA4: 9M23 | AB4: 4T23 / 4Q23 | AC4: 2023 | AD4: 1T24 / 1Q24 | AE4: 2T24 / 2Q24 | AF4: 1S24/1H24 | AG4: 3T24 / 3Q24 | AH4: 9M24/9M24 | AI4: 4T24 / 4Q24 | AJ4: 2024 | AK4: 1T25 | AL4: 2T25 | AM4: 1S25 | AN4: 3T25 | AO4: 9M25 | AP4: 4T25 | AQ4: 2025 | AR4: 1T26 | AS4: 2T26 | AT4: 1S26
B6: Receita Bruta de Venda de Petróleo | D6: Gross Revenue from Oil Sales | R6: 635161 | S6: 699277 | T6: 702849 | U6: 621677 | V6: 2658964 | W6: 578678 | X6: 594264 | Y6: 1172942 | Z6: 596705 | AA6: 1769647 | AB6: 560729 | AC6: 2330376 | AD6: 570687 | AE6: 622591 | AF6: 1193278 | AG6: 621530 | AH6: 1814808 | AI6: 625495 | AJ6: 2440303 | AK6: 614798 | AL6: 548665 | AM6: 1163463 | AN6: 519199.88 | AO6: 1682662.9 | AP6: 430470.76 | AQ6: 2113133 | AR6: 487080.65 | AS6: 654344 | AT6: =AS6+AR6 -> 1141424.7
B7: Receita Bruta de Venda de Gás e subprodutos | D7: Gross Revenue from Gas and by-products Sales | R7: 326134 | S7: 329303 | T7: 443029 | U7: 449608 | V7: 1548074 | W7: 382777 | X7: 282286 | Y7: 665063 | Z7: 314195 | AA7: 979258 | AB7: 273287 | AC7: 1252545 | AD7: 368683 | AE7: 374445 | AF7: 743128 | AG7: 379143 | AH7: 1122271 | AI7: 358066 | AJ7: 1480337 | AK7: 390100 | AL7: 397182 | AM7: 787282 | AN7: 385496 | AO7: 1172778 | AP7: 381308 | AQ7: 1554086 | AR7: 343781 | AS7: 360964 | AT7: =AS7+AR7 -> 704745
B8: Receita Bruta de Produtos Vendidos | D8: Gross Revenue from Products Sold | F8: 9746 | G8: 28020.558 | H8: 113907 | I8: 78824 | J8: 132038.5 | K8: 111834.65 | L8: 436604.15 | M8: 229753 | N8: 244527 | O8: 283903 | P8: 342669.5 | Q8: 1109774 | R8: 961295 | S8: 1028580 | T8: =SUM(T6:T7) -> 1145878 | U8: 1071285 | V8: =SUM(V6:V7) -> 4207038 | W8: =SUM(W6:W7) -> 961455 | X8: =SUM(X6:X7) -> 876550 | Y8: =SUM(Y6:Y7) -> 1838005 | Z8: =SUM(Z6:Z7) -> 910900 | AA8: =SUM(AA6:AA7) -> 2748905 | AB8: =SUM(AB6:AB7) -> 834016 | AC8: =SUM(AC6:AC7) -> 3582921 | AD8: =SUM(AD6:AD7) -> 939370 | AE8: 997036 | AF8: 1936406 | AG8: 1000673 | AH8: 2937079 | AI8: 983561 | AJ8: 3920640 | AK8: 1004898 | AL8: 945847 | AM8: 1950745 | AN8: 904695.88 | AO8: 2855440.9 | AP8: 811778.76 | AQ8: 3667219 | AR8: 830862 | AS8: 1015308 | AT8: =AS8+AR8 -> 1846170
B9: Receita Bruta de Prestação de Serviços | D9: Gross Revenue from Services Provided | F9: 314296 | G9: 329447 | H9: 85074 | I9: 49265 | J9: 56767.5 | K9: 91207.5 | L9: 282314 | M9: 79768 | N9: 78341 | O9: 92202 | P9: 103625.5 | Q9: 353937 | R9: 0 | S9: 0 | T9: 0 | U9: 0 | V9: 0 | W9: 0 | X9: 0 | Y9: =SUM(W9:X9) -> 0 | Z9: =AA9-Y9 -> 0 | AA9: 0 | AB9: 0 | AC9: 0 | AD9: 1081 | AE9: 8677 | AF9: 9956 | AG9: 28067 | AH9: 38023 | AI9: 5292 | AJ9: 43315 | AK9: 430 | AL9: 2527 | AM9: 2957 | AN9: 18478 | AO9: 21435 | AP9: 20148 | AQ9: 41583 | AR9: 15967 | AS9: 28120 | AT9: =AS9+AR9 -> 44087
B10: Instrumentos financeiros derivativos | D10: Derivative financial instruments | F10: 0 | G10: 14569.442 | H10: 30334 | I10: 78827 | J10: 46103 | K10: 41730.85 | L10: 196994.85 | M10: -4743 | N10: -3540 | O10: -39637 | P10: -69939 | Q10: -126780 | R10: -85230 | S10: -130361 | T10: -127316 | U10: -98724 | V10: -441631 | W10: -71468 | X10: -60286 | Y10: -131754 | Z10: -70610 | AA10: -202364 | AB10: -65845 | AC10: -268209 | AD10: -59170 | AE10: -32073 | AF10: -91243 | AG10: -30735 | AH10: -121978 | AI10: -5234 | AJ10: -127212 | AK10: 0 | AL10: 0 | AM10: 0 | AN10: 0 | AO10: 0 | AP10: 882 | AQ10: 882 | AR10: -35235 | AS10: -89286 | AT10: =AS10+AR10 -> -124521
B12: Receita Bruta | D12: Gross Profit | F12: 324042 | G12: 372037 | H12: 229315 | I12: 206916 | J12: 234909 | K12: 244773 | L12: 915913 | M12: 304778 | N12: 319328 | O12: 336468 | P12: 376356 | Q12: 1336931 | R12: 876065 | S12: 898219 | T12: =SUM(T8:T10) -> 1018562 | U12: =SUM(U8:U10) -> 972561 | V12: =SUM(V8:V10) -> 3765407 | W12: =SUM(W8:W10) -> 889987 | X12: =SUM(X8:X10) -> 816264 | Y12: =SUM(Y8:Y10) -> 1706251 | Z12: =SUM(Z8:Z10) -> 840290 | AA12: =SUM(AA8:AA10) -> 2546541 | ... AQ12: =SUM(AQ8:AQ10) -> 3709684 | AR12: 811594 | AS12: =SUM(AS8:AS10) -> 954142 | AT12: =SUM(AT8:AT10) -> 1765736
B14: Impostos sobre Venda de Petróleo | D14: Taxes on Oil Sales Income | R14: -100040.45 | S14: -139519.36 | T14: -124762.66 | U14: =-109597+2 -> -109595 | V14: -473916.77 | W14: -98669.193 | X14: -102389.9 | Y14: -201059.1 | Z14: -25916.542 | AA14: =-226975.6386 -> -226975.64 | AB14: -22324.721 | AC14: -249300.36 | AD14: -52745.217 | AE14: -57638.599 | AF14: -110383.82 | AG14: -56276.844 | AH14: -166660.66 | AI14: -57826.339 | AJ14: -224487 | AK14: -56364.378 | AL14: -50522.204 | AM14: -106886.58 | AN14: -47688 | AO14: -154574.58 | AP14: -39236.418 | AQ14: -193811 | AR14: -44668 | AS14: -60428 | AT14: =AS14+AR14 -> -105096
B15: Impostos sobre Venda de Gás e subprodutos | D15: Taxes on Gas and by-products Income | R15: -72548.551 | S15: -67690.64 | T15: -88951.343 | U15: =-86358-2 -> -86360 | V15: -315551.23 | W15: -72105.807 | X15: -55560.096 | Y15: -127665.9 | Z15: -66544.458 | AA15: =AA17-AA14 -> -194210.36 | AB15: -56839.993 | AC15: -251050.35 | AD15: -83800.98 | AE15: -88526.554 | AF15: -172327.53 | AG15: -87539.465 | AH15: -259867 | AI15: -81662 | AJ15: -341529 | AK15: -88150.6 | AL15: -91234.897 | AM15: -179385.5 | AN15: -86837.626 | AO15: -266223.12 | AP15: -86994.876 | AQ15: -353218 | AR15: -80356 | AS15: -81814 | AT15: =AS15+AR15 -> -162170
B16: Impostos sobre Prestação de Serviços | D16: Taxes on Services Provided | R16: 0 | S16: 0 | T16: 0 | U16: 0 | V16: 0 | W16: 0 | X16: 0 | Y16: 0 | Z16: 0 | AA16: 0 | AB16: 0 | AC16: 0 | AD16: 0 | AE16: -1221.0485 | AF16: -1419.0485 | AG16: -3999.2909 | AH16: -5418.3394 | AI16: -754.66061 | AJ16: -6173 | AK16: -61.2364 | AL16: -313.94214 | AM16: -375.17854 | AN16: -2263.4509 | AO16: -2638.6295 | AP16: -2407.3705 | AQ16: -5046 | AR16: -2114 | AS16: -3957 | AT16: =AS16+AR16 -> -6071
B17: Impostos sobre faturamento | D17: Taxes on Income | F17: -24374 | G17: -32114 | H17: -33767 | I17: -21428 | J17: -34732 | K17: -38145 | L17: -128072 | M17: -58990 | N17: -70218 | O17: -76125 | P17: -90994 | Q17: -296327 | R17: -172589 | S17: -207210 | T17: -213714 | U17: -195955 | V17: -789468 | W17: -170775 | X17: =SUM(X14:X15) -> -157950 | Y17: =SUM(Y14:Y15) -> -328725 | Z17: -92461 | AA17: -421186 | AB17: =AC17-AA17 -> -79165 | AC17: -500351 | AD17: -136744 | AE17: -147386.2 | AF17: -284130.4 | AG17: -147815.6 | AH17: -431946 | AI17: -140243 | AJ17: -572189 | AK17: -144576 | AL17: -142072 | AM17: -286648 | AN17: -136789 | AO17: -423437 | AP17: -128638.66 | AQ17: -552075 | AR17: -127138 | AS17: -146199 | AT17: =AS17+AR17 -> -273337
B19: Receita Líquida de Venda de Petróleo | D19: Net Revenue from Oil Sales | R19: =R6+R10+R14 -> 449890.55 | S19: =S6+S10+S14 -> 429396.64 | T19: =T6+T10+T14 -> 450770.34 | U19: =U6+U10+U14 -> 413358 | V19: =V6+V10+V14 -> 1743416.2 | W19: =W6+W10+W14 -> 408540.81 | X19: =X6+X10+X14 -> 431588.1 | Y19: 840128.9 | Z19: =Z6+Z14+Z10 -> 500178.46 | AA19: =AA6+AA14+AA10 -> 1340307.4 | AB19: =AB6+AB14+AB10 -> 472559.28 | AC19: =AC6+AC14+AC10 -> 1812866.6 | AD19: =AD6+AD10+AD14 -> 458771.78 | AE19: 532879.4 | AF19: 991651.18 | AG19: 534518.16 | AH19: 1526169.3 | AI19: 562434.66 | AJ19: =AJ6+AJ14+AJ10 -> 2088604 | AK19: =AK6+AK14+AK10 -> 558433.62 | AL19: =AL6+AL14+AL10 -> 498142.8 | AM19: =AM6+AM14+AM10 -> 1056576.4 | AN19: =AN6+AN14+AN10 -> 471511.88 | AO19: =AO6+AO14+AO10 -> 1528088.3 | AP19: =AP6+AP14+AP10 -> 392116.34 | AQ19: =AQ6+AQ14+AQ10 -> 1920204 | AR19: 407177.65 | AS19: =AS6+AS14+AS10 -> 504630 | AT19: =AS19+AR19 -> 911807.65
B20: Receita Líquida de Venda de Gás e subprodutos | D20: Net Revenue from Gas and by-products Sales | R20: =R7+R15 -> 253585.45 | S20: =S7+S15 -> 261612.36 | T20: =T7+T15 -> 354077.66 | U20: =U7+U15 -> 363248 | V20: =V7+V15 -> 1232522.8 | W20: =W7+W15 -> 310671.19 | X20: =X7+X15 -> 226725.9 | Y20: 537397.1 | Z20: =Z7+Z15 -> 247650.54 | AA20: =AA7+AA15 -> 785047.64 | AB20: =AB7+AB15 -> 216447.01 | AC20: =AC7+AC15 -> 1001494.6 | AD20: =AD7+AD15 -> 284882.02 | AE20: 285918.45 | AF20: 570800.47 | AG20: 291603.53 | AH20: 862404 | AI20: 276404 | AJ20: 1138808 | AK20: 301949.4 | AL20: 305947.1 | AM20: 607896.5 | AN20: 298658.37 | AO20: 906554.88 | AP20: 294313.12 | AQ20: 1200868 | AR20: 263425 | AS20: 279150 | AT20: =AS20+AR20 -> 542575
B21: Receita Líquida de Prestação de Serviços | AD21: =AD9+AD16 -> 1081 | AE21: 7455.9515 | AF21: 8536.9515 | AG21: 24067.709 | AH21: 32604.661 | AI21: 4537.3394 | AJ21: 37142 | AK21: 368.7636 | AL21: 2213.0579 | AM21: 2581.8215 | AN21: 16214.549 | AO21: 18796.371 | AP21: 17740.629 | AQ21: 36537 | AR21: 13853 | AS21: 24163 | AT21: =AS21+AR21 -> 38016
B22: Receita Líquida | D22: Net Revenue | F22: 299668 | G22: 339923 | H22: 195548 | I22: 185488 | J22: 200177 | K22: 206628 | L22: 787841 | M22: 245788 | N22: 249110 | O22: 260344 | P22: 285362 | Q22: 1040604 | R22: 703476 | S22: 691009 | T22: 804848 | U22: 776606 | V22: 2975939 | W22: =W12+W17 -> 719212 | X22: =X12+X17 -> 658314 | Y22: =Y12+Y17 -> 1377526 | Z22: =Z12+Z17 -> 747829 | AA22: =AA12+AA17 -> 2125355 | AB22: =AB12+AB17 -> 689006 | AC22: =AC12+AC17 -> 2814361 | AD22: =SUM(AD19:AD21) -> 744734.8 | AE22: =SUM(AE19:AE21) -> 826253.8 | AF22: =SUM(AF19:AF21) -> 1570988.6 | AG22: =SUM(AG19:AG21) -> 850189.4 | AH22: =SUM(AH19:AH21) -> 2421178 | AI22: =SUM(AI19:AI21) -> 843376 | AJ22: =SUM(AJ19:AJ21) -> 3264554 | AK22: =SUM(AK19:AK21) -> 860751.79 | ... AO22: =SUM(AO19:AO21) -> 2453439.5 | AP22: =AP17+AP12 -> 704170.09 | AQ22: =AQ17+AQ12 -> 3157609 | AR22: 684456 | AS22: =AS17+AS12 -> 807943 | AT22: =AT17+AT12 -> 1492399
B24: Custos e Despesas | D24: Costs and Expenses
B25: Pessoal | D25: Personnel | F25: -44940 | G25: -55201 | H25: -21692 | I25: -18386 | J25: -18260 | K25: -23799 | L25: -82137 | M25: -25614 | N25: -30937 | O25: -29444 | P25: -42273 | Q25: -128268 | R25: -48037 | S25: -54872 | T25: -62667 | U25: -62448 | V25: -228024 | W25: -65988 | X25: -66633 | Y25: -132621 | Z25: -62901 | AA25: -195522 | AB25: -79753 | AC25: -275275 | AD25: -58408 | AE25: -72003 | AF25: -130411 | AG25: -74291 | AH25: -204702 | AI25: -69569 | AJ25: -274271 | AK25: -66957 | AL25: -74794 | AM25: -141751 | AN25: -76082 | AO25: -217833 | AP25: -66169 | AQ25: -284002 | AR25: -77736 | AS25: -72554 | AT25: =AS25+AR25 -> -150290
B26: Serviços e Materiais | D26: Services and Materials | F26: -62157 | G26: -80718 | H26: -31095 | I26: -21629 | J26: -26794 | K26: -36449 | L26: -115967 | M26: -37317 | N26: -35193 | O26: -45093 | P26: -44229 | Q26: -161832 | R26: -59955 | S26: -65115 | T26: -60543 | U26: -69012 | V26: -254625 | W26: -94436 | X26: -99298 | Y26: -193734 | Z26: -82691 | AA26: -276425 | AB26: -119485 | AC26: -395910 | AD26: -108629 | AE26: -117957 | AF26: -226586 | AG26: -151932 | AH26: -378518 | AI26: -175324 | AJ26: -553842 | AK26: -156264 | AL26: -167706 | AM26: -323970 | AN26: -201486 | AO26: -525456 | AP26: -195297 | AQ26: -720753 | AR26: -157122 | AS26: -160701 | AT26: =AS26+AR26 -> -317823
B27: Eletricidade | D27: Electricity | F27: -30966 | G27: -38618 | H27: -13995 | I27: -10402 | J27: -10098 | K27: -11337 | L27: -45832 | M27: -12195 | N27: -12689 | O27: -14188 | P27: -17796 | Q27: -56868 | R27: -19048 | S27: -15963 | T27: -19014 | U27: -19852 | V27: -73877 | W27: -19133 | X27: -20081 | Y27: -39214 | Z27: -21087 | AA27: -60301 | AB27: -16929 | AC27: -77230 | AD27: -18296 | AE27: -17160 | AF27: -35456 | AG27: -18441 | AH27: -53897 | AI27: -18196 | AJ27: -72093 | AK27: -17416 | AL27: -19716 | AM27: -37132 | AN27: -17274 | AO27: -54406 | AP27: -17386 | AQ27: -71792 | AR27: -18531 | AS27: -18239 | AT27: =AS27+AR27 -> -36770
B28: Vendas | D28: Sales | F28: 0 | G28: 0 | H28: 0 | I28: 0 | J28: 0 | K28: 0 | L28: 0 | M28: 0 | N28: 0 | O28: 0 | P28: 0 | Q28: 0 | R28: 0 | S28: 0 | T28: 0 | U28: 0 | V28: 0 | W28: 0 | X28: 0 | Y28: 0 | Z28: -8856 | AA28: -8856 | AB28: -31639 | AC28: -40495 | AD28: -892 | AE28: 0 | AF28: -892 | AG28: -3048 | AH28: -3940 | AI28: 0 | AJ28: -3940 | AK28: 0 | AL28: 0 | AM28: 0 | AN28: 0 | AO28: 0 | AP28: 0 | AQ28: 0 | AR28: 0 | AS28: 0 | AT28: =AS28+AR28 -> 0
B29: Outros custos e despesas | D29: Other costs and expenses | F29: -8755 | G29: -6327 | H29: -12547 | I29: -8224 | J29: -12591 | K29: 10728 | L29: -22634 | M29: -18451 | N29: -14753 | O29: -9371 | P29: -12274 | Q29: -54850 | R29: -9960 | S29: -16066 | T29: -18130 | U29: -8338 | V29: -52494 | W29: -13112 | X29: 16856 | Y29: 3744 | Z29: -11341 | AA29: -7597 | AB29: -28486 | AC29: -36083 | AD29: -41708.802 | AE29: -12455 | AF29: -54163.802 | AG29: -2139 | AH29: -56302.802 | AI29: -17617.198 | AJ29: -73920 | AK29: -12786 | AL29: -7148 | AM29: -19934 | AN29: 8511 | AO29: -11423 | AP29: 993 | AQ29: -10430 | AR29: -1670 | AS29: -8299 | AT29: =AS29+AR29 -> -9969
B30: Compra/"Swap" de gás | D30: Gas Purchase | F30: 0 | G30: 0 | H30: 0 | I30: 0 | J30: 0 | K30: 0 | L30: 0 | M30: 0 | N30: 0 | O30: 0 | P30: 0 | Q30: 0 | R30: -34458 | S30: -34133 | T30: -57296 | U30: -78208 | V30: -204095 | W30: -58476 | X30: -15881 | Y30: -74357 | Z30: -4291 | AA30: -78648 | AB30: -19546 | AC30: -98194 | AD30: -12625 | AE30: -13169 | AF30: -25794 | AG30: -17075 | AH30: -42869 | AI30: -19082 | AJ30: -61951 | AK30: -39948 | AL30: -23793 | AM30: -63741 | AN30: -21251 | AO30: -84992 | AP30: -19715 | AQ30: -104707 | AR30: -5209 | AS30: -43517 | AT30: =AS30+AR30 -> -48726
B31: Escoamento de gás | D31: Gas Outflow | F31: 0 | G31: 0 | H31: 0 | I31: 0 | J31: 0 | K31: 0 | L31: 0 | M31: 0 | N31: 0 | O31: 0 | P31: 0 | Q31: 0 | R31: -2420 | S31: -2580 | T31: -3164 | U31: -3318 | V31: -11482 | W31: -4195 | X31: -6828 | Y31: -11023 | Z31: -7670 | AA31: -18693 | AB31: -5203 | AC31: -23896 | AD31: -6360 | AE31: -4853 | AF31: -11213 | AG31: -3957 | AH31: -15170 | AI31: -3543 | AJ31: -18713 | AK31: -3740 | AL31: -3715 | AM31: -7455 | AN31: -3633 | AO31: -11088 | AP31: -320 | AQ31: -11408 | AR31: -409 | AS31: -278 | AT31: =AS31+AR31 -> -687
B32: Processamento de gás | D32: Gas Processing | F32: 0 | G32: 0 | H32: 0 | I32: 0 | J32: 0 | K32: 0 | L32: 0 | M32: 0 | N32: 0 | O32: 0 | P32: 0 | Q32: 0 | R32: -21672 | S32: -24127 | T32: -27436 | U32: -28920 | V32: -102155 | W32: -37188 | X32: -48835 | Y32: -86023 | Z32: -54594 | AA32: -140617 | AB32: -42535 | AC32: -183152 | AD32: -61036 | AE32: -58346 | AF32: -119382 | AG32: -52073 | AH32: -171455 | AI32: -48286 | AJ32: -219741 | AK32: -49021 | AL32: -51884 | AM32: -100905 | AN32: -48455 | AO32: -149360 | AP32: -40388 | AQ32: -189748 | AR32: -34464 | AS32: -33687 | AT32: =AS32+AR32 -> -68151
B33: Transporte de gás | D33: Gas Transport | F33: 0 | G33: 0 | H33: 0 | I33: 0 | J33: 0 | K33: 0 | L33: 0 | M33: 0 | N33: 0 | O33: 0 | P33: 0 | Q33: 0 | R33: -30029 | S33: -33506 | T33: -33706 | U33: -30939 | V33: -128180 | W33: -42502 | X33: -35425 | Y33: -77927 | Z33: -48793 | AA33: -126720 | AB33: -41422 | AC33: -168142 | AD33: -30644 | AE33: -31293 | AF33: -61937 | AG33: -29438 | AH33: -91375 | AI33: -27030 | AJ33: -118405 | AK33: -22351 | AL33: -24885 | AM33: -47236 | AN33: -24681 | AO33: -71917 | AP33: -22502 | AQ33: -94419 | AR33: -19244 | AS33: -18523 | AT33: =AS33+AR33 -> -37767
B34: Royalties | D34: Royalties | F34: -958 | G34: -3234 | H34: -10890 | I34: -7880 | J34: -13519 | K34: -14577 | L34: -46866 | M34: -20579 | N34: -24184 | O34: -27649 | P34: -31568 | Q34: -103980 | R34: -63158 | S34: -64776 | T34: -61497 | U34: -51445 | V34: -240876 | W34: -49346 | X34: -62951 | Y34: -112297 | Z34: -68271 | AA34: -180568 | AB34: -57272 | AC34: -237840 | AD34: -52784 | AE34: -51703 | AF34: -104487 | AG34: -58393 | AH34: -162880 | AI34: -61762 | AJ34: -224642 | AK34: -68422 | AL34: -58889 | AM34: -127311 | AN34: -52080 | AO34: -179391 | AP34: -48303 | AQ34: -227694 | AR34: -59801 | AS34: -56051 | AT34: =AS34+AR34 -> -115852
B35: Perdas de crédito esperadas | D35: Expected credit losses | F35: 0 | G35: 0 | H35: 0 | I35: 0 | J35: 0 | K35: 0 | L35: 0 | M35: 0 | N35: 0 | O35: 0 | P35: 0 | Q35: 0 | R35: 0 | S35: 0 | T35: -37962 | U35: -32749 | V35: -70711 | W35: 0 | X35: 0 | Y35: 0 | Z35: 0 | AA35: 0 | AB35: 0 | AC35: 0 | AD35: 0 | AE35: 0 | AF35: 0 | AG35: 0 | AH35: 0 | AI35: 0 | AJ35: 0 | AK35: 0 | AL35: 0 | AM35: 0 | AN35: 0 | AO35: 0 | AP35: 0 | AQ35: 0 | AR35: 0 | AS35: 0 | AT35: =AS35+AR35 -> 0
B37: Total dos Custos e Despesas | D37: Total Costs and Expenses | F37: -147776 | G37: -184098 | H37: -90219 | I37: -66521 | J37: -81262 | K37: -75434 | L37: -313436 | M37: -114156 | N37: -117756 | O37: -125745 | P37: -148140 | Q37: -505798 | R37: -288737 | S37: -311138 | T37: -381415 | U37: -385229 | V37: -1366519 | W37: =SUM(W25:W35) -> -384376 | X37: =SUM(X25:X35) -> -339076 | Y37: =SUM(Y25:Y35) -> -723452 | Z37: =SUM(Z25:Z35) -> -370495 | AA37: =SUM(AA25:AA35) -> -1093947 | AB37: =SUM(AB25:AB35) -> -442270 | AC37: =SUM(AC25:AC35) -> -1536217 | AD37: =SUM(AD25:AD35) -> -391382.8 | ... AQ37: =SUM(AQ25:AQ35) -> -1714953 | AR37: -374186 | AS37: =SUM(AS25:AS35) -> -411849 | AT37: =SUM(AT25:AT35) -> -786035
B39: EBITDA | D39: EBITDA | F39: 151892 | G39: 155825 | H39: 105329 | I39: 118967 | J39: 118915 | K39: 131194 | L39: 474405 | M39: 131632 | N39: 131354 | O39: 134599 | P39: 137222 | Q39: 534806 | R39: 414739 | S39: 379871 | T39: =T22+T37 -> 423433 | U39: =U37+U22 -> 391377 | V39: =V37+V22 -> 1609420 | W39: =W37+W22 -> 334836 | X39: =X37+X22 -> 319238 | Y39: =Y37+Y22 -> 654074 | Z39: =Z37+Z22 -> 377334 | AA39: =AA37+AA22 -> 1031408 | AB39: =AB37+AB22 -> 246736 | ... AQ39: =AQ37+AQ22 -> 1442656 | AR39: 310270 | AS39: =AS37+AS22 -> 396094 | AT39: =AT37+AT22 -> 706364
B41: Depleção, Depreciação e Amortização | D41: Depletion, Depreciation and Amortization | F41: -62304 | G41: -95379 | H41: -53270 | I41: -53107 | J41: -51861 | K41: -84347 | L41: -242585 | M41: -61052 | N41: -68381 | O41: -77661 | P41: -43107 | Q41: -250200 | R41: -69932 | S41: -85108 | T41: -112580 | U41: -83600 | V41: -351220 | W41: -103923 | X41: -145186 | Y41: -249109 | Z41: -182422 | AA41: -431531 | AB41: =AC41-AA41 -> -166796 | AC41: -598327 | AD41: -153862 | AE41: -178214 | AF41: -332076 | AG41: -202998 | AH41: -535074 | AI41: -159742 | AJ41: -694816 | AK41: -164082 | AL41: -195367 | AM41: -359449 | AN41: -192350 | AO41: -551799 | AP41: -169278 | AQ41: -721077 | AR41: -152281 | AS41: -173038 | AT41: =AS41+AR41 -> -325319
B42: Depreciação de arrendamento mercantil | D42: Lease right of use depreciation | AR42: -7895 | AS42: 0 | AT42: =AS42+AR42 -> -7895
B44: Lucro Operacional | D44: Operating Income (Loss) | F44: 89588 | G44: 60446 | H44: 52059 | I44: 65860 | J44: 67054 | K44: 46847 | L44: 231820 | M44: 70580 | N44: 62973 | O44: 56938 | P44: 94115 | Q44: 284606 | R44: 344807 | S44: 294763 | T44: =T39+T41 -> 310853 | U44: =U39+U41 -> 307777 | V44: =V39+V41 -> 1258200 | W44: =W39+W41 -> 230913 | X44: =X39+X41 -> 174052 | Y44: =Y39+Y41 -> 404965 | Z44: =Z39+Z41 -> 194912 | AA44: =AA39+AA41 -> 599877 | ... AQ44: =AQ39+AQ41 -> 721579 | AR44: 150094 | AS44: =AS39+AS41+AS42 -> 223056 | AT44: =AT39+AT41+AT42 -> 373150
B46: Resultado Financeiro | D46: Financial Income
B47: Receitas Financeiras | D47: Financial Revenues | F47: 2920 | G47: 1785 | H47: 402 | I47: 4035 | J47: 5330 | K47: -8978 | L47: 789 | M47: 15543 | N47: 5335 | O47: 5228 | P47: 5246 | Q47: 31352 | R47: 4287 | S47: 6335 | T47: 7489 | U47: 10924 | V47: 29035 | W47: 10888 | X47: 14872 | Y47: 25760 | Z47: 20463 | AA47: 46223 | AB47: =AC47-AA47 -> 19726 | AC47: 65949 | AD47: 10619 | AE47: 15674 | AF47: 26249 | AG47: 12304 | AH47: 38553 | AI47: 11999 | AJ47: 50552 | AK47: 12415 | AL47: 10179 | AM47: 22594 | AN47: 13527 | AO47: 36121 | AP47: 19131 | AQ47: 55252 | AR47: 14703 | AS47: 12493 | AT47: =AS47+AR47 -> 27196
B48: Despesas Financeiras | D48: Financial Expenses | F48: -3569 | G48: -9685 | H48: -28179 | I48: -33412 | J48: -33518 | K48: -22053 | L48: -117162 | M48: -23061 | N48: -30962 | O48: -22148 | P48: -17776 | Q48: -93947 | R48: -23182 | S48: -26210 | T48: -44024 | U48: -19218 | V48: -109445 | W48: -24454 | X48: -21116 | Y48: -45570 | Z48: -33073 | AA48: -78644 | AB48: =AC48-AA48 -> -30229 | AC48: -108873 | AD48: -49186 | AE48: -43505 | AF48: -81244 | AG48: -70989 | AH48: -152233 | AI48: -88611 | AJ48: -240844 | AK48: -70095 | AL48: -66573 | AM48: -136668 | AN48: -88196 | AO48: -224864 | AP48: -88262 | AQ48: -313126 | AR48: -117000 | AS48: -122104 | AT48: =AS48+AR48 -> -239104
B49: Variação Cambial, Líquida | D49: Exchange Variation, Net | F49: -245 | G49: 19292 | H49: -229114 | I49: -56077 | J49: -25600 | K49: 77707 | L49: -233084 | M49: -87267 | N49: 89297 | O49: -4220 | P49: 13796 | Q49: 11606 | R49: 204750 | S49: -106978 | T49: -8953 | U49: 61180 | V49: 146810 | W49: 19867 | X49: 61636 | Y49: 81503 | Z49: -35785 | AA49: 45719 | AB49: =AC49-AA49 -> 46217 | AC49: 91936 | AD49: -32411 | AE49: -55233 | AF49: -87644 | AG49: 10427 | AH49: -77217 | AI49: 51241 | AJ49: -25976 | AK49: -34124 | AL49: -21396 | AM49: -55520 | AN49: -7994 | AO49: -63514 | AP49: 9207 | AQ49: -54307 | AR49: -52021 | AS49: 2447 | AT49: =AS49+AR49 -> -49574
B53: SWAP | AE53: -135529 | AF53: -135529 | AG53: -7354 | AH53: -142883 | AI53: -225957 | AJ53: -368840 | AK53: 138590 | AL53: 150078 | AM53: 288668 | AN53: 79637 | AO53: 368305 | AP53: -16183 | AQ53: 352122 | AR53: 265655 | AS53: 99522 | AT53: =AS53+AR53 -> 365177
B54: Swap - Marcação a Mercado (MTM) | AE54: =AE53-AE55 -> -135529 | AF54: =AF53-AF55 -> -135529 | AG54: =AG53-AG55 -> -7354 | AH54: =AH53-AH55 -> -142883 | AI54: =AI53-AI55 -> -225957 | AJ54: =AJ53-AJ55 -> -368840 | AK54: =AK53-AK55 -> 138590 | AL54: =AL53-AL55 -> 122158 | ... AS54: =AS53-AS55 -> 44882.898 | AT54: =AS54+AR54 -> 285587
...

Sheet Fluxo de Caixa
F2: Fluxo de Caixa | Cash Flow
L3: 2020 | M3: =LEFT(M4,4) -> 1T21 | N3: =LEFT(N4,4) -> 2T21 | O3: =LEFT(O4,4) -> 3T21 | P3: =LEFT(P4,4) -> 4T21 | Q3: =LEFT(Q4,4) -> 2021 | R3: =LEFT(R4,4) -> 1T22 | S3: =LEFT(S4,4) -> 2T22 | T3: =LEFT(T4,4) -> 3T22 | ... AO3: =LEFT(AO4,4) -> 9M25
B4: Em milhares de reais | D4: In thousands of reais | F4: 2018 | G4: 2019 | H4: 1T20 / 1Q20 | I4: 2T20 /2Q20 | J4: 3T20 / 3Q20 | K4: 4T20 / 4Q20 | L4: 2020 | M4: 1T21 / 1Q21 | N4: 2T21 /2Q21 | O4: 3T21 / 3Q21 | P4: 4T21 / 4Q21 | Q4: 2021 | R4: 1T22 / 1Q22 | S4: 2T22 / 2Q22 | T4: 3T22 / 3Q22 | U4: 4T22 / 4Q22 | V4: 2022 | W4: 1T23 / 1Q23 | X4: 2T23 / 2Q23 | Y4: 1S23 | Z4: 3T23 / 3Q23 | AA4: 9M23 | AB4: 4T23 / 4Q23 | AC4: 2023 | AD4: 1T24 / 1Q24 | AE4: 2T24 / 2Q24 | AF4: 1S24/1H24 | AG4: 3T24 / 3Q24 | AH4: 9M24/9M24 | AI4: 4T24 / 4Q24 | AJ4: 2024 | AK4: 1T25 | AL4: 2T25 | AM4: 1S25 | AN4: 3T25 | AO4: 9M25 | AP4: 4T25 | AQ4: 2025 | AR4: 1T26 | AS4: 2T26 | AT4: 1S26
B6: Fluxo de Caixa Proveniente das Operações | D6: Cash Flow Operation Activities
B8: Resultado antes dos impostos sobre o lucro | D8: Income (loss) before taxes on income | F8: 88694 | G8: 71838 | H8: -204832 | I8: -19594 | J8: 13266 | K8: 93523 | L8: -117637 | M8: -24205 | N8: 126643 | O8: 35798 | P8: 95381 | Q8: 233617 | R8: 530662 | S8: 167910 | T8: 265365 | U8: 360663 | V8: 1324600 | W8: 237214 | X8: 229444 | Y8: 466658 | Z8: 146517 | AA8: 613175 | AB8: 115654 | AC8: 728829 | AD8: 128512 | AE8: 52849 | AF8: 181361 | AG8: 196080 | AH8: 377441 | AI8: -14036 | AJ8: 363405 | AK8: 308762 | AL8: 253826 | AM8: 562588 | AN8: 148624 | AO8: 711212 | AP8: 64982 | AQ8: 776194 | AR8: 149052 | AS8: 233837 | AT8: =AS8+AR8 -> 382889
B10: Ajustes para reconciliar o lucro (prejuízo) antes dos impostos do | D10: Adjustments to reconcile income (loss) before taxes in the period
B11: exercício / período com o caixa gerado pelas atividades operacionais | D11: with cash from operating activities
B12: Juros, amortização de captação e variações cambiais líquidas | D12: Net Interest and foreign exchange variations | F12: =992-336 -> 656 | G12: =-14854-25+1194+1393 -> -12292 | H12: =248629-361+1043+5208 -> 254519 | I12: =76281-204+4058+882 -> 81017 | J12: =43655-233+4869+400 -> 48691 | K12: =-62679+599+6546+2713 -> -52821 | L12: =305886-199+8871+16848 -> 331406 | M12: =103869-988+3353+1461 -> 107695 | N12: =-105789+1343+3443+976 -> -100027 | O12: =46847+9+3222+724 -> 50802 | P12: =35104+232+2973+3161 -> 41470 | Q12: =80031+596+3161+12991 -> 96779 | R12: =-193553+2449 -> -191104 | S12: =121312+2800+697 -> 124809 | T12: =23267+17116+344 -> 40727 | U12: =-47238-491+387 -> -47342 | V12: =-96212+21874+1428 -> -72910 | W12: =-5905+1575+27 -> -4303 | X12: =-71135+257-27 -> -70905 | Y12: =-77040+1832 -> -75208 | Z12: 58109 | AA12: -17099 | AB12: -64719 | AC12: -81818 | AD12: 56234 | AE12: 147080 | AF12: 203314 | AG12: 39957 | AH12: 243271 | AI12: 144290 | AJ12: 387561 | AK12: 87758 | AL12: 73625 | AM12: 161383 | AN12: 76640 | AO12: 238023 | AP12: 76433 | AQ12: 314456 | AR12: 151041 | AS12: 121702 | AT12: =AS12+AR12 -> 272743
B13: Depreciação, amortização e depleção | D13: Depreciation, amortization and depletion | F13: 62304 | G13: 95411 | H13: 53270 | I13: 53107 | J13: 51861 | K13: 84347 | L13: 242585 | M13: 61052.493 | N13: 68380.507 | O13: 77661 | P13: 43106 | Q13: 250200 | R13: 69932 | S13: 85108 | T13: 112580 | U13: 83600 | V13: 351220 | W13: 103923 | X13: 145186 | Y13: 249109 | Z13: 182422 | AA13: 431531 | AB13: 166796 | AC13: 598327 | AD13: 153862 | AE13: 178214 | AF13: 332076 | AG13: 202998 | AH13: 535074 | AI13: 159742 | AJ13: 694816 | AK13: 164082 | AL13: 195367 | AM13: 359449 | AN13: 192350 | AO13: 551799 | AP13: 169278 | AQ13: 721077 | AR13: 160176 | AS13: 173038 | AT13: =AS13+AR13 -> 333214
B14: Perdas de Crédito Esperada | D14: Provision for inventories loss | F14: -118 | G14: 71 | H14: 58 | I14: -121 | J14: 104 | K14: 5301 | L14: 5342 | M14: 0 | N14: 0 | O14: 0 | P14: 0 | Q14: 0 | R14: 0 | S14: 0 | T14: 37962 | U14: 32749 | V14: 70711 | W14: 0 | X14: 0 | Y14: 0 | Z14: 0 | AA14: 0 | AB14: 0 | AC14: 0 | AD14: 0 | AE14: 0 | AF14: 0 | AG14: 0 | AH14: 0 | AI14: 0 | AJ14: 0 | AK14: 0 | AL14: 0 | AM14: 0 | AN14: 0 | AO14: 0 | AP14: 0 | AQ14: 0 | AR14: 0 | AS14: 0 | AT14: =AS14+AR14 -> 0
B15: Valor justo dos instrumentos financeiros derivativos no resultado | D15: Fair value of settled hedge | F15: 0 | G15: 0 | H15: 0 | I15: 0 | J15: -8574 | K15: 8574 | L15: 0 | M15: 0 | N15: 0 | O15: 56841 | P15: 69939 | Q15: 126780 | R15: 85230 | S15: 130361 | T15: 127316 | U15: 98724 | V15: 441631 | W15: 71468 | X15: 60286 | Y15: 131754 | Z15: 70610 | AA15: 202364 | AB15: 65890 | AC15: 268254 | AD15: 70573 | AE15: 165261 | AF15: 235834 | AG15: 22801 | AH15: 258635 | AI15: 237124 | AJ15: 495759 | AK15: -140801 | AL15: -153211 | AM15: -294012 | AN15: -73683 | AO15: -367695 | AP15: 17 | AQ15: -367678 | AR15: -118041 | AS15: -28659 | AT15: =AS15+AR15 -> -146700
B16: Provisões, perdas estimadas e outros | D16: Provisions, estimated losses and others | F16: 2023 | G16: 2490 | H16: 4663 | I16: -3674 | J16: 7261 | K16: -7753 | L16: 497 | M16: 0 | N16: 215 | O16: 3711 | P16: 16245 | Q16: 20171 | R16: 1844 | S16: 1853 | T16: 5400 | U16: 3392 | V16: 12489 | W16: 3479 | X16: -451 | Y16: 3028 | Z16: 1699 | AA16: 4727 | AB16: 3810 | AC16: 8537 | AD16: 7547 | AE16: 38789 | AF16: 46336 | AG16: 2563 | AH16: 48899 | AI16: 10906 | AJ16: 59805 | AK16: 4022 | AL16: -2422 | AM16: 1600 | AN16: -6432 | AO16: -4832 | AP16: 4983 | AQ16: 151 | AR16: 82 | AS16: -1719 | AT16: =AS16+AR16 -> -1637
B17: Contraprestação de parcela contingente de valores a pagar de aquisições | D17: Consideration of contingent portion of amounts payable for acquisitions | F17: 0 | G17: 0 | H17: 0 | I17: 0 | J17: 0 | K17: 0 | L17: 0 | M17: 0 | N17: 0 | O17: 0 | P17: 0 | Q17: 0 | R17: 0 | S17: 0 | T17: 0 | U17: 0 | V17: 0 | W17: 0 | X17: 0 | Y17: 0 | Z17: 0 | AA17: 0 | AB17: 0 | AC17: 0 | AD17: 22033 | AE17: 0 | AF17: 22033 | AG17: 0 | AH17: 22033 | AI17: 0 | AJ17: 22033 | AK17: 0 | AL17: 0 | AM17: 0 | AN17: 0 | AO17: 0 | AP17: 0 | AQ17: 0 | AR17: 0 | AS17: 0 | AT17: =AS17+AR17 -> 0
B18: Atualização da provisão para abandono de poços | D18: Adjustment of provision for well abandonment | F18: =1501-2027 -> -526 | G18: =1254-243 -> 1011 | H18: 1273 | I18: 1271 | J18: 1271 | K18: =1665-1975 -> -310 | L18: =5480-1975 -> 3505 | M18: 2065 | N18: 1373 | O18: 1484 | P18: =1640-6994 -> -5354 | Q18: =6562-6994 -> -432 | R18: 2698 | S18: 2699 | T18: 2700 | U18: 2700 | V18: 10797 | W18: 3292 | X18: 3352 | Y18: 6644 | Z18: 3339 | AA18: 9983 | AB18: 2849 | AC18: 12832 | AD18: 4565 | AE18: 4449 | AF18: 9014 | AG18: 4683 | AH18: 13697 | AI18: 4565 | AJ18: 18262 | AK18: 3740 | AL18: 3739 | AM18: 7479 | AN18: 3739 | AO18: 11218 | AP18: 3740 | AQ18: 14958 | AR18: 3817 | AS18: 3817 | AT18: =AS18+AR18 -> 7634
B19: Baixas do imobilizado, de arrendamentos e outras | D19: Write-off of property, plant and equipment and leases | F19: 1688 | G19: 8037 | H19: 20477 | I19: 3044 | J19: 38534 | K19: 19222 | L19: 81277 | M19: 32270 | N19: 24470 | O19: 44695 | P19: 60805 | Q19: 162240 | R19: 45119 | S19: 27844 | T19: 34916 | U19: 33480 | V19: 141359 | W19: 59514 | X19: 28691 | Y19: 88205 | Z19: 88623 | AA19: 176828 | AB19: 58367 | AC19: 235195 | AD19: 68563 | AE19: 54417 | AF19: 122980 | AG19: 59362 | AH19: 182342 | AI19: 136840 | AJ19: 319182 | AK19: 46232 | AL19: 54444 | AM19: 100676 | AN19: 38470 | AO19: 139146 | AP19: 62141 | AQ19: 201287 | AR19: 5435 | AS19: 11566 | AT19: =AS19+AR19 -> 17001
B20: Reversão da provisão de abandono de poços | AP20: -265 | AQ20: -265 | AR20: 0 | AS20: 0 | AT20: =AS20+AR20 -> 0
AE21: 0 | AF21: 0 | AG21: 0 | AH21: 0 | AI21: 0 | AT21: =AS21+AR21 -> 0
B22: Variações Nos Ativos | D22: Changes in Assets | AE22: 0 | AF22: 0 | AG22: 0 | AH22: 0 | AI22: 0 | AJ22: 0 | AK22: 0 | AL22: 0 | AM22: 0 | AN22: 0 | AO22: 0 | AP22: 0 | AQ22: 0 | AR22: 0 | AS22: 0 | AT22: =AS22+AR22 -> 0
B23: Contas a receber de clientes | D23: Trade receivables | F23: -9067 | G23: -40351 | H23: -45969 | I23: 29848 | J23: -6249 | K23: -7753 | L23: -30123 | M23: -36389 | N23: 12055 | O23: -31934 | P23: -14793 | Q23: -71061 | R23: -282691 | S23: 9954 | T23: -19727 | U23: -48497 | V23: -340961 | W23: 23651 | X23: 64249 | Y23: 87900 | Z23: =AA23-Y23 -> -48200 | AA23: 39700 | AB23: -11882 | AC23: 27818 | AD23: 10850 | AE23: -27457 | AF23: -16607 | AG23: 14678 | AH23: -1929 | AI23: -783 | AJ23: -2712 | AK23: 5762 | AL23: 25178 | AM23: 30940 | AN23: 19541 | AO23: 50481 | AP23: 49561 | AQ23: 100042 | AR23: -60823 | AS23: -11820 | AT23: =AS23+AR23 -> -72643
B24: Estoques | D24: Inventories | F24: 297 | G24: -451 | H24: -731 | I24: 861 | J24: -2242 | K24: 1381 | L24: -731 | M24: -50 | N24: 392 | O24: -142 | P24: -5541 | Q24: -5341 | R24: -2440 | S24: 867 | T24: 1285 | U24: -4611 | V24: -4899 | W24: 8186 | X24: -2519 | Y24: 5667 | Z24: =AA24-Y24 -> -17341 | AA24: -11674 | AB24: 17359 | AC24: 5685 | AD24: -431 | AE24: 5339 | AF24: 4908 | AG24: 482 | AH24: 5390 | AI24: -1046 | AJ24: 4344 | AK24: -3189 | AL24: 77 | AM24: -3112 | AN24: 3428 | AO24: 316 | AP24: 3216 | AQ24: 3532 | AR24: -3550 | AS24: 1624 | AT24: =AS24+AR24 -> -1926
B25: Tributos a recuperar | D25: Taxes to be recovered | F25: -55 | G25: 7932 | H25: -4627 | I25: 451 | J25: -2126 | K25: -1496 | L25: -7798 | M25: -5656 | N25: -4742 | O25: -8956 | P25: 341 | Q25: -19013 | R25: 7002 | S25: -22962 | T25: -14194 | U25: -81984 | V25: -112138 | W25: -4872 | X25: -9964 | Y25: -14836 | Z25: =AA25-Y25 -> -49761 | AA25: -64597 | AB25: -6492 | AC25: -71089 | AD25: 89370 | AE25: 76811 | AF25: 166181 | AG25: -630 | AH25: 165551 | AI25: -17011 | AJ25: 148540 | AK25: -3865 | AL25: 14135 | AM25: 10270 | AN25: -8971 | AO25: 1299 | AP25: -21976 | AQ25: -20677 | AR25: 43911 | AS25: 23830 | AT25: =AS25+AR25 -> 67741
B26: Almoxarifado para inversões fixas | AR26: 496 | AS26: -5032 | AT26: =AS26+AR26 -> -4536
B27: Outros ativos | D27: Other assets | F27: 406 | G27: -1045 | H27: -5439 | I27: -112 | J27: 1103 | K27: -7188 | L27: -11636 | M27: -1572 | N27: 8025 | O27: -835 | P27: -4703 | Q27: 915 | R27: -8587 | S27: -4859 | T27: -31947 | U27: 30107 | V27: -15286 | W27: -14712 | X27: 11539 | Y27: -3173 | Z27: -3466 | AA27: -6639 | AB27: -3224 | AC27: -9863 | AD27: 19880 | AE27: -53264 | AF27: -33384 | AG27: -10056 | AH27: -43440 | AI27: -2991 | AJ27: -46431 | AK27: -36046 | AL27: 30621 | AM27: -5425 | AN27: -1526 | AO27: -6951 | AP27: -25299 | AQ27: -32250 | AR27: -12443 | AS27: -4831 | AT27: =AS27+AR27 -> -17274
AE28: 0 | AF28: 0 | AG28: 0 | AH28: 0 | AI28: 0 | AJ28: 0 | AK28: 0 | AL28: 0 | AM28: 0 | AN28: 0 | AO28: 0 | AP28: 0 | AQ28: 0 | AR28: 0 | AS28: 0 | AT28: =AS28+AR28 -> 0
B29: Variações Nos Passivos | D29: Changes in Liabilities | AE29: 0 | AF29: 0 | AG29: 0 | AH29: 0 | AI29: 0 | AJ29: 0 | AK29: 0 | AL29: 0 | AM29: 0 | AN29: 0 | AO29: 0 | AP29: 0 | AQ29: 0 | AR29: 0 | AS29: 0 | AT29: =AS29+AR29 -> 0
B30: Fornecedores | D30: Suppliers | F30: 14697 | G30: 9975 | H30: 14945 | I30: -24954 | J30: 19205 | K30: 28378 | L30: 37574 | M30: 5308 | N30: -3589 | O30: -16150 | P30: 33050 | Q30: 18619 | R30: 54875 | S30: 36453 | T30: 83032 | U30: 79084 | V30: 253444 | W30: 55055 | X30: -43167 | Y30: 11888 | Z30: =AA30-Y30 -> -4735 | AA30: 7153 | AB30: 14394 | AC30: 21547 | AD30: -38262 | AE30: 17625 | AF30: -20637 | AG30: 25755 | AH30: 5118 | AI30: 39982 | AJ30: 45100 | AK30: 68837 | AL30: -40776 | AM30: 28061 | AN30: -19061 | AO30: 9000 | AP30: -56416 | AQ30: -47416 | AR30: -38991 | AS30: 40037 | AT30: =AS30+AR30 -> 1046
B31: Salários e encargos sociais | D31: Salaries and social charges | F31: 4000 | G31: 2697 | H31: 1208 | I31: 7006 | J31: -10189 | K31: 4201 | L31: 2226 | M31: 3700 | N31: 3263 | O31: 5374 | P31: -12291 | Q31: 46 | R31: 11312 | S31: -3463 | T31: 12768 | U31: 9668 | V31: 30285 | W31: 7519 | X31: -5858 | Y31: 1661 | Z31: =AA31-Y31 -> 18325 | AA31: 19986 | AB31: 6357 | AC31: 26343 | AD31: -7152 | AE31: 5886 | AF31: -1266 | AG31: 17536 | AH31: 16270 | AI31: 2271 | AJ31: 18541 | AK31: 12385 | AL31: -13362 | AM31: -977 | AN31: 22026 | AO31: 21049 | AP31: -19750 | AQ31: 1299 | AR31: 14490 | AS31: -13424 | AT31: =AS31+AR31 -> 1066
